BEGIN:VCALENDAR
VERSION:2.0
PRODID:-//Dreamers Folk - ECPv6.15.20//NONSGML v1.0//EN
CALSCALE:GREGORIAN
METHOD:PUBLISH
X-WR-CALNAME:Dreamers Folk
X-ORIGINAL-URL:https://www.dreamersfolk.co.uk
X-WR-CALDESC:Events for Dreamers Folk
REFRESH-INTERVAL;VALUE=DURATION:PT1H
X-Robots-Tag:noindex
X-PUBLISHED-TTL:PT1H
BEGIN:VTIMEZONE
TZID:Europe/London
BEGIN:DAYLIGHT
TZOFFSETFROM:+0000
TZOFFSETTO:+0100
TZNAME:BST
DTSTART:20240331T010000
END:DAYLIGHT
BEGIN:STANDARD
TZOFFSETFROM:+0100
TZOFFSETTO:+0000
TZNAME:GMT
DTSTART:20241027T010000
END:STANDARD
BEGIN:DAYLIGHT
TZOFFSETFROM:+0000
TZOFFSETTO:+0100
TZNAME:BST
DTSTART:20250330T010000
END:DAYLIGHT
BEGIN:STANDARD
TZOFFSETFROM:+0100
TZOFFSETTO:+0000
TZNAME:GMT
DTSTART:20251026T010000
END:STANDARD
BEGIN:DAYLIGHT
TZOFFSETFROM:+0000
TZOFFSETTO:+0100
TZNAME:BST
DTSTART:20260329T010000
END:DAYLIGHT
BEGIN:STANDARD
TZOFFSETFROM:+0100
TZOFFSETTO:+0000
TZNAME:GMT
DTSTART:20261025T010000
END:STANDARD
END:VTIMEZONE
BEGIN:VEVENT
DTSTART;TZID=Europe/London:20251214T180000
DTEND;TZID=Europe/London:20251214T223000
DTSTAMP:20260419T160139
CREATED:20250319T162308Z
LAST-MODIFIED:20251208T104805Z
UID:7708-1765735200-1765751400@www.dreamersfolk.co.uk
SUMMARY:Christmas Meal at the Vic.
DESCRIPTION:This year we have a Christmas cold meat buffet\, with vegetarian options\, sitting down at 6pm so that we can commence the evenings entertainment at 7.30pm. As is our wont\, we welcome something a little different to the usual\, some of our regulars will be performing comic sketches while others will bring their songs & music & poetry. Welcome all to the club at 7.30\, but the buffet  at 6pm is pre-ordered.
URL:https://www.dreamersfolk.co.uk/event/christmas-meal-at-the-vic/
LOCATION:The Victoria Inn\, 1 The Square\, Four Lanes\, near Redruth. TR16 6PZ\, 1 The Square\, Four Lanes\, Redruth. TR16 6PZ\, Redruth\, TR16 6PZ
END:VEVENT
BEGIN:VEVENT
DTSTART;TZID=Europe/London:20251221T193000
DTEND;TZID=Europe/London:20251221T223000
DTSTAMP:20260419T160139
CREATED:20250319T162441Z
LAST-MODIFIED:20250319T162447Z
UID:7710-1766345400-1766356200@www.dreamersfolk.co.uk
SUMMARY:Seasonal Song Night
DESCRIPTION:
URL:https://www.dreamersfolk.co.uk/event/seasonal-song-night/
END:VEVENT
BEGIN:VEVENT
DTSTART;TZID=Europe/London:20251228T193000
DTEND;TZID=Europe/London:20251228T223000
DTSTAMP:20260419T160139
CREATED:20251016T163417Z
LAST-MODIFIED:20251016T163423Z
UID:7853-1766950200-1766961000@www.dreamersfolk.co.uk
SUMMARY:Dreamers Folk Closed
DESCRIPTION:We are having a Sunday night off\, but the pub will still be open for your trade. \n\n\n\nWe’ll be back in action in the New Year\, Sunday 4th January 2026
URL:https://www.dreamersfolk.co.uk/event/dreamers-folk-closed-2/
LOCATION:The Victoria Inn\, 1 The Square\, Four Lanes\, near Redruth. TR16 6PZ\, 1 The Square\, Four Lanes\, Redruth. TR16 6PZ\, Redruth\, TR16 6PZ
END:VEVENT
END:VCALENDAR