BEGIN:VCALENDAR
VERSION:2.0
PRODID:-//Dreamers Folk - ECPv6.15.20//NONSGML v1.0//EN
CALSCALE:GREGORIAN
METHOD:PUBLISH
X-WR-CALNAME:Dreamers Folk
X-ORIGINAL-URL:https://www.dreamersfolk.co.uk
X-WR-CALDESC:Events for Dreamers Folk
REFRESH-INTERVAL;VALUE=DURATION:PT1H
X-Robots-Tag:noindex
X-PUBLISHED-TTL:PT1H
BEGIN:VTIMEZONE
TZID:Europe/London
BEGIN:DAYLIGHT
TZOFFSETFROM:+0000
TZOFFSETTO:+0100
TZNAME:BST
DTSTART:20180325T010000
END:DAYLIGHT
BEGIN:STANDARD
TZOFFSETFROM:+0100
TZOFFSETTO:+0000
TZNAME:GMT
DTSTART:20181028T010000
END:STANDARD
BEGIN:DAYLIGHT
TZOFFSETFROM:+0000
TZOFFSETTO:+0100
TZNAME:BST
DTSTART:20190331T010000
END:DAYLIGHT
BEGIN:STANDARD
TZOFFSETFROM:+0100
TZOFFSETTO:+0000
TZNAME:GMT
DTSTART:20191027T010000
END:STANDARD
BEGIN:DAYLIGHT
TZOFFSETFROM:+0000
TZOFFSETTO:+0100
TZNAME:BST
DTSTART:20200329T010000
END:DAYLIGHT
BEGIN:STANDARD
TZOFFSETFROM:+0100
TZOFFSETTO:+0000
TZNAME:GMT
DTSTART:20201025T010000
END:STANDARD
END:VTIMEZONE
BEGIN:VEVENT
DTSTART;TZID=Europe/London:20190407T193000
DTEND;TZID=Europe/London:20190407T223000
DTSTAMP:20260421T033326
CREATED:20190330T161902Z
LAST-MODIFIED:20190330T162705Z
UID:1068-1554665400-1554676200@www.dreamersfolk.co.uk
SUMMARY:Djazz Celtica
DESCRIPTION:Djazz Celtica:\nPamela Betowski nee Niblett jazz violinist\, folk fiddler\, vocalist\, multi instrumentalist and composer. Living in West Cornwall\, she has performed widely – venues include The National Theatre and the Albert Hall. Her music has been played on Radio and Television. She has also written music for film and is author of ‘The Gypsy Jazz Melody Book’ for violin. Also worked as a Violin tutor at Falmouth University. Pam Betowski www.pambetowski.co.uk \nNoel Betowski: ‘hot club’ lead and rhythm guitarist\, Irish bouzouki player extraordinaire as well as visual artist. He has performed on radio and television and with many line-ups. Noel is also a painter see his artist website www.noelbetowski.com \nNoel and Pam have performed their innovative mix of ‘Hot Club’ Gypsy jazz and Irish traditional music as a duo for weddings\, private functions and in folk clubs\, pubs\, concert halls and village halls for over 35 years. \n[fvplayer id=”10″]
URL:https://www.dreamersfolk.co.uk/event/djazz-celtica/
LOCATION:Sportsmans Arms\, Four Lanes\, Redruth\, Cornwall\, TR16 6LR\, United Kingdom
END:VEVENT
BEGIN:VEVENT
DTSTART;TZID=Europe/London:20190331T193000
DTEND;TZID=Europe/London:20190331T223000
DTSTAMP:20260421T033326
CREATED:20190108T160612Z
LAST-MODIFIED:20190330T093442Z
UID:918-1554060600-1554071400@www.dreamersfolk.co.uk
SUMMARY:Penzance Folk Club visit to Dreamers
DESCRIPTION:Penzance Folk Club was started in early 2008 by Alan & Linda Collins. Nowadays the club continues to run successfully with elected officers and committee\, and the welcome help from a number of members and performers. In 2018\, following a change of management at the Admiral Benbow\, the club moved premises and now takes place at the Bath Inn\, Cornwall Terrace\, Penzance. \nThe club runs alternate Wednesdays from 8.00-11.00pm; most evenings are “Round the Room” sessions where everyone has an opportunity to sing\, play a tune or tell a story – there is no obligation to perform and audience are very welcome.\nAlthough the club originated from a background of traditional music\, most evenings have a welcome mix of music and song\, often including contemporary songs\, tunes (some Cornish)\, American old timey\, music hall songs\, blues and occasional items of classic pop!\nOnce a year we at Dreamers invite Penzance Folk Club to the Sportsmans Arms to share an evening of songs & music and depending on numbers attending\, the usual format is for Dreamers regulars to perform in the first half of the evening and then Penzance regulars take the second half to finish the evening at 10.30pm. \nAlways a good night with much variety of material! Come along and enjoy!
URL:https://www.dreamersfolk.co.uk/event/penzance-folk-club-visit-to-dreamers/
LOCATION:Sportsmans Arms\, Four Lanes\, Redruth\, Cornwall\, TR16 6LR\, United Kingdom
END:VEVENT
BEGIN:VEVENT
DTSTART;TZID=Europe/London:20190324T193000
DTEND;TZID=Europe/London:20190324T223000
DTSTAMP:20260421T033326
CREATED:20190310T092613Z
LAST-MODIFIED:20190314T205715Z
UID:1003-1553455800-1553466600@www.dreamersfolk.co.uk
SUMMARY:Ale & Cakes
DESCRIPTION:Ale & Cakes have taken their name from a mine in the St Day area\, to emphasise their Cornish credentials. They are a young duo with lots of background in the bluegrass / oldtime tradition of America and folk song of Cornwall.
URL:https://www.dreamersfolk.co.uk/event/ale-cakes/
LOCATION:Sportsmans Arms\, Four Lanes\, Redruth\, Cornwall\, TR16 6LR\, United Kingdom
END:VEVENT
END:VCALENDAR